BEGIN:VCALENDAR
VERSION:2.0
PRODID:-//Lebendiges Mielkendorf - ECPv6.15.17.1//NONSGML v1.0//EN
CALSCALE:GREGORIAN
METHOD:PUBLISH
X-WR-CALNAME:Lebendiges Mielkendorf
X-ORIGINAL-URL:https://www.lebendiges-mielkendorf.de
X-WR-CALDESC:Veranstaltungen für Lebendiges Mielkendorf
REFRESH-INTERVAL;VALUE=DURATION:PT1H
X-Robots-Tag:noindex
X-PUBLISHED-TTL:PT1H
BEGIN:VTIMEZONE
TZID:Europe/Berlin
BEGIN:DAYLIGHT
TZOFFSETFROM:+0100
TZOFFSETTO:+0200
TZNAME:CEST
DTSTART:20250330T010000
END:DAYLIGHT
BEGIN:STANDARD
TZOFFSETFROM:+0200
TZOFFSETTO:+0100
TZNAME:CET
DTSTART:20251026T010000
END:STANDARD
BEGIN:DAYLIGHT
TZOFFSETFROM:+0100
TZOFFSETTO:+0200
TZNAME:CEST
DTSTART:20260329T010000
END:DAYLIGHT
BEGIN:STANDARD
TZOFFSETFROM:+0200
TZOFFSETTO:+0100
TZNAME:CET
DTSTART:20261025T010000
END:STANDARD
BEGIN:DAYLIGHT
TZOFFSETFROM:+0100
TZOFFSETTO:+0200
TZNAME:CEST
DTSTART:20270328T010000
END:DAYLIGHT
BEGIN:STANDARD
TZOFFSETFROM:+0200
TZOFFSETTO:+0100
TZNAME:CET
DTSTART:20271031T010000
END:STANDARD
END:VTIMEZONE
BEGIN:VEVENT
DTSTART;TZID=Europe/Berlin:20260328T110000
DTEND;TZID=Europe/Berlin:20260328T130000
DTSTAMP:20260420T135517
CREATED:20260323T193741Z
LAST-MODIFIED:20260323T194824Z
UID:1009-1774695600-1774702800@www.lebendiges-mielkendorf.de
SUMMARY:Osterbasteln mit dem Jugendbeirat
DESCRIPTION:Der Jugendbeirat veranstaltet sein jährliches Osterbasteln und freut sich\, wenn viele kommen. \nDie Bastelmaterialien werden vom Jugendbeirat gestellt\, aber Ihr dürft natürlich auch Eure eigenen Sachen mitbringen.
URL:https://www.lebendiges-mielkendorf.de/event/osterbasteln-mit-dem-jugendbeirat/
LOCATION:Gemeinderaum\, Dorfstr. 32\, Mielkendorf\, 24247
CATEGORIES:Basteln,Jugend,Jugendbeirat
ATTACH;FMTTYPE=image/png:https://www.lebendiges-mielkendorf.de/wp-content/uploads/2026/03/Osterbasteln_Jugendbeirat.png
END:VEVENT
END:VCALENDAR