BEGIN:VCALENDAR
VERSION:2.0
PRODID:-//Lebendiges Mielkendorf - ECPv6.15.20//NONSGML v1.0//EN
CALSCALE:GREGORIAN
METHOD:PUBLISH
X-WR-CALNAME:Lebendiges Mielkendorf
X-ORIGINAL-URL:https://www.lebendiges-mielkendorf.de
X-WR-CALDESC:Veranstaltungen für Lebendiges Mielkendorf
REFRESH-INTERVAL;VALUE=DURATION:PT1H
X-Robots-Tag:noindex
X-PUBLISHED-TTL:PT1H
BEGIN:VTIMEZONE
TZID:Europe/Berlin
BEGIN:DAYLIGHT
TZOFFSETFROM:+0100
TZOFFSETTO:+0200
TZNAME:CEST
DTSTART:20240331T010000
END:DAYLIGHT
BEGIN:STANDARD
TZOFFSETFROM:+0200
TZOFFSETTO:+0100
TZNAME:CET
DTSTART:20241027T010000
END:STANDARD
BEGIN:DAYLIGHT
TZOFFSETFROM:+0100
TZOFFSETTO:+0200
TZNAME:CEST
DTSTART:20250330T010000
END:DAYLIGHT
BEGIN:STANDARD
TZOFFSETFROM:+0200
TZOFFSETTO:+0100
TZNAME:CET
DTSTART:20251026T010000
END:STANDARD
BEGIN:DAYLIGHT
TZOFFSETFROM:+0100
TZOFFSETTO:+0200
TZNAME:CEST
DTSTART:20260329T010000
END:DAYLIGHT
BEGIN:STANDARD
TZOFFSETFROM:+0200
TZOFFSETTO:+0100
TZNAME:CET
DTSTART:20261025T010000
END:STANDARD
END:VTIMEZONE
BEGIN:VEVENT
DTSTART;TZID=Europe/Berlin:20251210T160000
DTEND;TZID=Europe/Berlin:20251210T180000
DTSTAMP:20260422T140515
CREATED:20251201T105225Z
LAST-MODIFIED:20251201T105225Z
UID:954-1765382400-1765389600@www.lebendiges-mielkendorf.de
SUMMARY:Liederlukas: Weihnachtsbacken mit Lukas & Helge
DESCRIPTION:Ein Kinderkonzert:  \nEin lieblicher Duft von Lebkuchen\, Zimt und Honig liegt in der Luft und die schönste Zeit des Jahres hat begonnen – die Vorweihnachtszeit! Wie kann man sich besser in Vorfreude bringen\, als mit einer gemeinsamen Weihnachtsbäckerei? \nGemeinsam mit vielen alten und neuen Weihnachts- und Winterliedern\, nehmen euch die Kinderliedermacher Lukas & Helge mit auf eine liebevolle\, chaotische Reise durch die Vorweihnachtszeit. \nDoch so richtiges Weihnachtsbacken will gelernt sein und braucht die tatkräftige Unterstützung der kleinen und großen Zuhörer*innen. Werden es Lukas & Helge es dieses Mal schaffen\, gemeinsam mit euch leckere Weihnachtsplätzchen zu backen? \nDas rund 45 minütige Mitmachprogramm richtet sich an Kinder zwischen 4 und 11 Jahren. \nMit dem Ticketpreis tragt ihr dazu bei\, dass wir diese Veranstaltung kostenneutral für den Verein durchführen können. Wie fast alles sind die Preise für Künstler und Veranstaltungsort auch gestiegen.  \nZum Ticketshop
URL:https://www.lebendiges-mielkendorf.de/event/weihnachtsbackenmitlukas_helge/
LOCATION:Hofstube Gut Blockshagen\, Blockshagener Weg 18\, Mielkendorf\, 24247\, Deutschland
CATEGORIES:Kinder,Kindertheater
ATTACH;FMTTYPE=image/jpeg:https://www.lebendiges-mielkendorf.de/wp-content/uploads/2024/11/lichterfest.jpg
ORGANIZER;CN="Lebendiges Mielkendorf":MAILTO:info@lebendiges-mielkendorf.de
END:VEVENT
END:VCALENDAR