BEGIN:VCALENDAR
VERSION:2.0
PRODID:-//Lebendiges Mielkendorf - ECPv6.15.20//NONSGML v1.0//EN
CALSCALE:GREGORIAN
METHOD:PUBLISH
X-ORIGINAL-URL:https://www.lebendiges-mielkendorf.de
X-WR-CALDESC:Veranstaltungen für Lebendiges Mielkendorf
REFRESH-INTERVAL;VALUE=DURATION:PT1H
X-Robots-Tag:noindex
X-PUBLISHED-TTL:PT1H
BEGIN:VTIMEZONE
TZID:Europe/Berlin
BEGIN:DAYLIGHT
TZOFFSETFROM:+0100
TZOFFSETTO:+0200
TZNAME:CEST
DTSTART:20240331T010000
END:DAYLIGHT
BEGIN:STANDARD
TZOFFSETFROM:+0200
TZOFFSETTO:+0100
TZNAME:CET
DTSTART:20241027T010000
END:STANDARD
BEGIN:DAYLIGHT
TZOFFSETFROM:+0100
TZOFFSETTO:+0200
TZNAME:CEST
DTSTART:20250330T010000
END:DAYLIGHT
BEGIN:STANDARD
TZOFFSETFROM:+0200
TZOFFSETTO:+0100
TZNAME:CET
DTSTART:20251026T010000
END:STANDARD
BEGIN:DAYLIGHT
TZOFFSETFROM:+0100
TZOFFSETTO:+0200
TZNAME:CEST
DTSTART:20260329T010000
END:DAYLIGHT
BEGIN:STANDARD
TZOFFSETFROM:+0200
TZOFFSETTO:+0100
TZNAME:CET
DTSTART:20261025T010000
END:STANDARD
END:VTIMEZONE
BEGIN:VEVENT
DTSTART;TZID=Europe/Berlin:20251005T120000
DTEND;TZID=Europe/Berlin:20251005T170000
DTSTAMP:20260422T171429
CREATED:20240826T195546Z
LAST-MODIFIED:20250922T095251Z
UID:551-1759665600-1759683600@www.lebendiges-mielkendorf.de
SUMMARY:6. Apfelfest auf Gut Blockshagen
DESCRIPTION:Nach dem großen Erfolg im letzten Jahr findet am 5. Oktober 2025 auf dem Gut Blockshagen dieses Jahr wieder von 12-17 Uhr das Apfelfest statt. Was inzwischen als feste Größe im Mielkendorfer Veranstaltungskalender gilt\, wird auch in diesem Jahr mit viel Herzblut und Engagement organisiert. \nGemeinsam mit dem Verein „Lebendiges Mielkendorf e.V.“ und dem Team der Hofstube\, wird die beliebte Tradition fortgesetzt – mit dem Ziel\, Naturerlebnis\, Kulinarik und Dorfgemeinschaft auf wunderschöne Weise zu verbinden. \nAuch in diesem Jahr dreht sich thematisch alles rund um den Apfel. Ein Pomologe wird sein Wissen teilen\, einige Freunde der Mielkendorfer Streuobstwiesen – laden zu informativen Führungen ein. Am Nachmittag wird es einen Workshop zum Thema „Obstbaumschnitt“ geben\, mit einem kleinen Eigenkostenanteil von 10 Euro pro Person.  \nWer möchte\, kann verschiedene Apfelsorten von den heimischen Wiesen probieren oder sich beim Saftpressen über die Herstellung informieren. Eine weitere Besonderheit: Es wird wieder Saft gepresst und erneut wird der beliebte Apfelsaft von den Mielkendorfer Streuobstwiesen zum Verkauf geboten.  \nFür Kinder gibt es wieder viele Mitmachangebote: Die beliebte Rollbahn ist dabei\, außerdem warten Bastelstationen und Spiele\, die bereits beim Dorfspielespaß im Frühling für leuchtende Kinderaugen gesorgt haben. Im musikalischen Programm sorgt Liederlukas für gute Laune bei den Kleinen\, während Eltern Gespräche\, Speis und Trank genießen können.  \nAuch kulinarisch ist wieder einiges geboten: Neben Kaffee und Apfelkuchen wird der Hof Langmaack erneut einen herzhaften Imbiss anbieten – für jeden Geschmack ist etwas dabei. \nEin besonderes Highlight in diesem Jahr ist das Glücksrad: Jeder Dreh unterstützt den Mielkendorfer Spielplatz „Langstücken“. Der gesamte Erlös fließt direkt in den Spielplatzfond des Vereins „Lebendiges Mielkendorf e.V.“ – so wird aus Spiel und Spaß auch echte Zukunft gemacht. \n  \nZeitplan\n(Änderungen vorbehalten) \nDurchgängig: Apfelpressen und Spiele für die Kids \nab 12:00 Basteln für Kinder \nab 12:00 Pomologe zur Apfelbestimmung \n12:00 Streubobstwiesenführung mit Kinder-Schwerpunkt \n13:00 Musik \n14:00 Workshop Baumpflege\, Schwerpunkt Obstbaumschnitt (Begrenztes Kontingent – Tickets hier) \n15:00 Liederlukas \n15:30 Streuobstwiesenführung v.a. für Erwachsene \n 
URL:https://www.lebendiges-mielkendorf.de/event/6-apfelfest-auf-gut-blockshagen/
LOCATION:Hofstube Gut Blockshagen\, Blockshagener Weg 18\, Mielkendorf\, 24247\, Deutschland
CATEGORIES:Apfelfest,Dorffest,Jugend,Spielen,Streuobstwiesen
ATTACH;FMTTYPE=image/jpeg:https://www.lebendiges-mielkendorf.de/wp-content/uploads/2024/08/apfelfest_q.jpg
ORGANIZER;CN="Lebendiges Mielkendorf":MAILTO:info@lebendiges-mielkendorf.de
END:VEVENT
END:VCALENDAR