BEGIN:VCALENDAR
VERSION:2.0
PRODID:-//Lebendiges Mielkendorf - ECPv6.15.20//NONSGML v1.0//EN
CALSCALE:GREGORIAN
METHOD:PUBLISH
X-ORIGINAL-URL:https://www.lebendiges-mielkendorf.de
X-WR-CALDESC:Veranstaltungen für Lebendiges Mielkendorf
REFRESH-INTERVAL;VALUE=DURATION:PT1H
X-Robots-Tag:noindex
X-PUBLISHED-TTL:PT1H
BEGIN:VTIMEZONE
TZID:Europe/Berlin
BEGIN:DAYLIGHT
TZOFFSETFROM:+0100
TZOFFSETTO:+0200
TZNAME:CEST
DTSTART:20240331T010000
END:DAYLIGHT
BEGIN:STANDARD
TZOFFSETFROM:+0200
TZOFFSETTO:+0100
TZNAME:CET
DTSTART:20241027T010000
END:STANDARD
BEGIN:DAYLIGHT
TZOFFSETFROM:+0100
TZOFFSETTO:+0200
TZNAME:CEST
DTSTART:20250330T010000
END:DAYLIGHT
BEGIN:STANDARD
TZOFFSETFROM:+0200
TZOFFSETTO:+0100
TZNAME:CET
DTSTART:20251026T010000
END:STANDARD
BEGIN:DAYLIGHT
TZOFFSETFROM:+0100
TZOFFSETTO:+0200
TZNAME:CEST
DTSTART:20260329T010000
END:DAYLIGHT
BEGIN:STANDARD
TZOFFSETFROM:+0200
TZOFFSETTO:+0100
TZNAME:CET
DTSTART:20261025T010000
END:STANDARD
END:VTIMEZONE
BEGIN:VEVENT
DTSTART;TZID=Europe/Berlin:20250920T100000
DTEND;TZID=Europe/Berlin:20250920T130000
DTSTAMP:20260422T184631
CREATED:20231221T104839Z
LAST-MODIFIED:20250917T150742Z
UID:373-1758362400-1758373200@www.lebendiges-mielkendorf.de
SUMMARY:Mielkids Markt
DESCRIPTION:Der Mielkids Markt ist der halbjährliche Flohmarkt rund ums Kind in der Turnhalle Mielkendorf (Dorfstr. 32). \nAlle Erlöse aus dem Café-Verkauf\, den Standgebühren und der Tombola kommen den Kindern und Jugendlichen des Dorfes zu Gute. Unterstützt werden damit der Kindergarten\, die Grundschule\, die Betreute Grundschule und die Jugendfeuerwehr des Dorfes. \nMehr Informationen zur Anfahrt\, Parkraum und das Bewerbungsformular für Anbieter:innen findest Du auf https://www.lebendiges-mielkendorf.de/mielkids \nBitte beachtet unbedingt die Halteverbotszonen. Auch das Ausladen in diesen Zonen und auf dem Gelände der Feuerwehr ist unzulässig. Wir weisen darauf hin\, dass an dem Tag auch das Ordnungsamt unterwegs sein wird und Verstöße ahnden wird.
URL:https://www.lebendiges-mielkendorf.de/event/mielkids-markt-2/
LOCATION:Turnhalle Mielkendorf\, Dorfstr. 32\, Mielkendorf\, 24247\, Deutschland
CATEGORIES:Flohmarkt,Mielkids
ATTACH;FMTTYPE=image/jpeg:https://www.lebendiges-mielkendorf.de/wp-content/uploads/2023/12/mielkids_facebook_profilbild-scaled.jpg
ORGANIZER;CN="Lebendiges Mielkendorf":MAILTO:info@lebendiges-mielkendorf.de
END:VEVENT
END:VCALENDAR