BEGIN:VCALENDAR
VERSION:2.0
PRODID:-//Lebendiges Mielkendorf - ECPv6.15.20//NONSGML v1.0//EN
CALSCALE:GREGORIAN
METHOD:PUBLISH
X-WR-CALNAME:Lebendiges Mielkendorf
X-ORIGINAL-URL:https://www.lebendiges-mielkendorf.de
X-WR-CALDESC:Veranstaltungen für Lebendiges Mielkendorf
REFRESH-INTERVAL;VALUE=DURATION:PT1H
X-Robots-Tag:noindex
X-PUBLISHED-TTL:PT1H
BEGIN:VTIMEZONE
TZID:Europe/Berlin
BEGIN:DAYLIGHT
TZOFFSETFROM:+0100
TZOFFSETTO:+0200
TZNAME:CEST
DTSTART:20240331T010000
END:DAYLIGHT
BEGIN:STANDARD
TZOFFSETFROM:+0200
TZOFFSETTO:+0100
TZNAME:CET
DTSTART:20241027T010000
END:STANDARD
BEGIN:DAYLIGHT
TZOFFSETFROM:+0100
TZOFFSETTO:+0200
TZNAME:CEST
DTSTART:20250330T010000
END:DAYLIGHT
BEGIN:STANDARD
TZOFFSETFROM:+0200
TZOFFSETTO:+0100
TZNAME:CET
DTSTART:20251026T010000
END:STANDARD
BEGIN:DAYLIGHT
TZOFFSETFROM:+0100
TZOFFSETTO:+0200
TZNAME:CEST
DTSTART:20260329T010000
END:DAYLIGHT
BEGIN:STANDARD
TZOFFSETFROM:+0200
TZOFFSETTO:+0100
TZNAME:CET
DTSTART:20261025T010000
END:STANDARD
END:VTIMEZONE
BEGIN:VEVENT
DTSTART;TZID=Europe/Berlin:20250518T110000
DTEND;TZID=Europe/Berlin:20250518T160000
DTSTAMP:20260423T005633
CREATED:20250503T091935Z
LAST-MODIFIED:20250517T105858Z
UID:714-1747566000-1747584000@www.lebendiges-mielkendorf.de
SUMMARY:Spiele\, Spaß & Dorfradeln –  ein buntes Event für Groß und Klein
DESCRIPTION:Am Sonntag\, den 18. Mai\, erwartet uns ein spannendes Event auf dem Schulhof in Mielkendorf: Zum zweiten Mal heißt es: „Spiele Spaß und Dorfradeln“. Ab 11 Uhr verwandelt sich der Schulhof in einen riesigen Spielebereich\, der ganz darauf ausgerichtet ist\, den Kids jede Menge Spaß zu bieten. Hier können sie nach Herzenslust verschiedene Spiele ausprobieren\, sich austoben und gemeinsam mit Freunden und anderen Kindern neue Herausforderungen meistern.  \nDoch das ist noch nicht alles! Wie im letzten Jahr bieten wir für Zweiradliebhaber auch dieses Mal wieder einige Fahrradtouren an\, die in unterschiedlichen Längen und für alle Könnensstufen geeignet sind. Egal\, ob du ein erfahrener Radfahrer oder eher ein Anfänger bist – es gibt eine Tour für dich!  \nWir freuen uns sehr\, dass unser Sportverein GW Mielkendorf 73 e.V. auch um 11:30 einen Programmpunkt zum Radwandern anbieten wird. Radwandern ist eine Form des Fahrradfahrens\, bei der das bewusste Erleben der Landschaft und des Fortbewegens im Mittelpunkt steht. Es geht weniger um das Erreichen eines Zielortes oder das Zurücklegen einer bestimmten Strecke\, sondern vielmehr darum\, die Natur und den Weg zu genießen. \nUnd für alle\, die nach einer Tour ihr Fahrrad auf Vordermann bringen möchten oder sonstige Fragen rund ums Rad haben: Es wird wieder ein Reparaturcafé geben für eure Drahtesel. Hier könnt ihr euch wertvolle Tipps und Tricks holen\, um die anfallenden Reparaturen selbst durchzuführen. Es ist die perfekte Gelegenheit\, mehr über die Pflege und Instandhaltung eures Fahrrads zu erfahren. \nFür das leibliche Wohl wird selbstverständlich auch gesorgt: Ihr könnt euch auf Kaffee\, Tee\, Kuchen und eine Vielzahl an leckeren Snacks freuen. So lässt es sich gemütlich bei einem Getränk entspannen\, während die Kinder sich vergnügen. \nKommt also vorbei\, bringt Familie und Freunde mit und genießt einen tollen Tag voller Spiel und Spaß! Der Schulhof in Mielkendorf wird am 18. Mai der Treffpunkt für alle\, die Lust auf einen geselligen Tag haben. \nWir freuen uns auf euch!
URL:https://www.lebendiges-mielkendorf.de/event/spiele-spass-dorfradeln-ein-buntes-event-fuer-gross-und-klein/
LOCATION:Schulhof und Sportplatz Mielkendorf\, Dorfstr. 32\, Mielkendorf\, 24247\, Deutschland
CATEGORIES:Jugend,Kinder,Spielen,Sport
ATTACH;FMTTYPE=image/jpeg:https://www.lebendiges-mielkendorf.de/wp-content/uploads/2025/05/dorfradeln2.jpg
ORGANIZER;CN="Lebendiges Mielkendorf":MAILTO:info@lebendiges-mielkendorf.de
END:VEVENT
END:VCALENDAR