BEGIN:VCALENDAR
VERSION:2.0
PRODID:-//Lebendiges Mielkendorf - ECPv6.15.20//NONSGML v1.0//EN
CALSCALE:GREGORIAN
METHOD:PUBLISH
X-ORIGINAL-URL:https://www.lebendiges-mielkendorf.de
X-WR-CALDESC:Veranstaltungen für Lebendiges Mielkendorf
REFRESH-INTERVAL;VALUE=DURATION:PT1H
X-Robots-Tag:noindex
X-PUBLISHED-TTL:PT1H
BEGIN:VTIMEZONE
TZID:Europe/Berlin
BEGIN:DAYLIGHT
TZOFFSETFROM:+0100
TZOFFSETTO:+0200
TZNAME:CEST
DTSTART:20230326T010000
END:DAYLIGHT
BEGIN:STANDARD
TZOFFSETFROM:+0200
TZOFFSETTO:+0100
TZNAME:CET
DTSTART:20231029T010000
END:STANDARD
BEGIN:DAYLIGHT
TZOFFSETFROM:+0100
TZOFFSETTO:+0200
TZNAME:CEST
DTSTART:20240331T010000
END:DAYLIGHT
BEGIN:STANDARD
TZOFFSETFROM:+0200
TZOFFSETTO:+0100
TZNAME:CET
DTSTART:20241027T010000
END:STANDARD
BEGIN:DAYLIGHT
TZOFFSETFROM:+0100
TZOFFSETTO:+0200
TZNAME:CEST
DTSTART:20250330T010000
END:DAYLIGHT
BEGIN:STANDARD
TZOFFSETFROM:+0200
TZOFFSETTO:+0100
TZNAME:CET
DTSTART:20251026T010000
END:STANDARD
END:VTIMEZONE
BEGIN:VEVENT
DTSTART;TZID=Europe/Berlin:20241216T160000
DTEND;TZID=Europe/Berlin:20241216T170000
DTSTAMP:20260425T123433
CREATED:20241111T112442Z
LAST-MODIFIED:20241111T112442Z
UID:639-1734364800-1734368400@www.lebendiges-mielkendorf.de
SUMMARY:Liederlukas: Lichterfest im Winterwald
DESCRIPTION:Der Kinderliedermacher „Liederlukas“ hat sich für diesen Winter eine besondere Weihnachtsüberraschung einfallen lassen und tourt mit seinem Bilderbuchkino „Lichterfest im Winterwald“ durch die Lande. Am 16.12. macht er Station in Mielkendorf. In einem rund 35 minütigen Programm erzählt er eine musikalische Wintererzählung und ergänzt diese mit fünf weihnachtlichen Mitmachsongs. \nDer kleine Schneemann ist glücklich in seinem herrlich verschneiten Winterwald- als ihn seltsame Geräusche aus seinen Träumen reißen. Die Tiere im Wald sind in Nöten und er begibt sich auf die Suche nach ihnen. Er versucht zu helfen\, wo er kann und so ergibt sich eine wunderschöne Geschichte vom weihnachtlichen Glitzern und Funkeln und vom kleinen und großen Glück zu geben und zu teilen. \nLukas Johannsen aka „Liederlukas“ ist seit Jahren ein fester Bestandteil der norddeutschen Kindermusikszene und ist auf zahlreichen Stadtfesten\, in Kitas und Grundschulen zu Gast. Neugierig\, spontan\, voller Lust auf Begegnungen.In der Hand ein Instrument\, im Kopf bunte Ideen und viel Musik! \nErwachsene\, die als Begleitung im Café-Bereich warten\, haben kostenlosen Eintritt. Nur wenn sie mit im Bühnenraum das Stück sehen möchten\, brauchen sie ebenfalls ein Ticket. Groß und Klein können natürlich auch Kuchen\, Getränke und Snacks erwerben. \nMit dem Spendenticket ist übrigens auch eine direkte Unterstützung unserer Vereinsarbeit möglich. Dafür einfach den Mindestbetrag (9€) manuell nach Belieben aufstocken. \nZum Ticketshop
URL:https://www.lebendiges-mielkendorf.de/event/liederlukas-lichterfest-im-winterwald/
LOCATION:Hofstube Gut Blockshagen\, Blockshagener Weg 18\, Mielkendorf\, 24247\, Deutschland
CATEGORIES:Kinder,Kindertheater
ATTACH;FMTTYPE=image/jpeg:https://www.lebendiges-mielkendorf.de/wp-content/uploads/2024/11/lichterfest.jpg
ORGANIZER;CN="Lebendiges Mielkendorf":MAILTO:info@lebendiges-mielkendorf.de
END:VEVENT
END:VCALENDAR